BEGIN:VCALENDAR
VERSION:2.0
PRODID:icalendar-ruby
CALSCALE:GREGORIAN
METHOD:PUBLISH
BEGIN:VEVENT
DTSTAMP:20260423T063604Z
UID:4e34056c-ca13-4d32-90fc-1affa9603876
DTSTART;VALUE=DATE:20150617
DTEND;VALUE=DATE:20150617
DESCRIPTION:Rogue Valley BMX
LOCATION:Highland Drive  Medford OR 97504 USA
SUMMARY:Standard Single
URL:/site/bmx_races/286906
END:VEVENT
END:VCALENDAR
