BEGIN:VCALENDAR
VERSION:2.0
PRODID:icalendar-ruby
CALSCALE:GREGORIAN
METHOD:PUBLISH
BEGIN:VEVENT
DTSTAMP:20260421T034745Z
UID:35896c04-4a2b-407d-873a-f2ba3bd0c583
DTSTART;VALUE=DATE:20151110
DTEND;VALUE=DATE:20151110
DESCRIPTION:Whitney Mesa BMX
LOCATION:1575 Galleria Dr  Henderson NV 89014 USA
SUMMARY:Local Race Single
URL:/site/bmx_races/287215
END:VEVENT
END:VCALENDAR
