BEGIN:VCALENDAR
VERSION:2.0
PRODID:icalendar-ruby
CALSCALE:GREGORIAN
METHOD:PUBLISH
BEGIN:VEVENT
DTSTAMP:20260421T020646Z
UID:ec352c92-76e9-426a-b6e9-ff9006570306
DTSTART;VALUE=DATE:20151215
DTEND;VALUE=DATE:20151215
DESCRIPTION:Whitney Mesa BMX
LOCATION:1575 Galleria Dr  Henderson NV 89014 USA
SUMMARY:Local Race Single
URL:/site/bmx_races/287220
END:VEVENT
END:VCALENDAR
