BEGIN:VCALENDAR
VERSION:2.0
PRODID:icalendar-ruby
CALSCALE:GREGORIAN
METHOD:PUBLISH
BEGIN:VEVENT
DTSTAMP:20260423T053059Z
UID:1052a729-2ee8-4af0-b58f-fe7767c4760c
DTSTART;VALUE=DATE:20150715
DTEND;VALUE=DATE:20150715
DESCRIPTION:Redwood Empire BMX
LOCATION:201 Vance Ave  Samoa CA 95564 USA
SUMMARY:Standard Single
URL:/site/bmx_races/287666
END:VEVENT
END:VCALENDAR
