BEGIN:VCALENDAR
VERSION:2.0
PRODID:icalendar-ruby
CALSCALE:GREGORIAN
METHOD:PUBLISH
BEGIN:VEVENT
DTSTAMP:20260426T022321Z
UID:c35d45ba-5a58-45ef-b4ea-ee72819a153f
DTSTART;VALUE=DATE:20150725
DTEND;VALUE=DATE:20150725
DESCRIPTION:Imagination Glen BMX
LOCATION:2190 N State Rd 149  Portage IN 46304 USA
SUMMARY:Standard Single
URL:/site/bmx_races/288060
END:VEVENT
END:VCALENDAR
