BEGIN:VCALENDAR
VERSION:2.0
PRODID:icalendar-ruby
CALSCALE:GREGORIAN
METHOD:PUBLISH
BEGIN:VEVENT
DTSTAMP:20260421T140405Z
UID:4045e572-9adf-48f2-ae64-479f47b1ecdb
DTSTART;VALUE=DATE:20150717
DTEND;VALUE=DATE:20150717
DESCRIPTION:San Diego BMX
LOCATION:3170 Armstrong Street Behind Kearny Mesa Recreation Center San Die
 go CA 92111 USA
SUMMARY:Standard Single
URL:/site/bmx_races/288095
END:VEVENT
END:VCALENDAR
