BEGIN:VCALENDAR
VERSION:2.0
PRODID:icalendar-ruby
CALSCALE:GREGORIAN
METHOD:PUBLISH
BEGIN:VEVENT
DTSTAMP:20260420T122508Z
UID:d8c07d6d-61d0-4233-81eb-fd4ad70cee25
DTSTART;VALUE=DATE:20151025
DTEND;VALUE=DATE:20151025
DESCRIPTION:Reno Battleborn BMX
LOCATION:Sun Valley Gid Community Park 115 W 6th Ave Sun Valley NV 89433 US
 A
SUMMARY:Local Race Single
URL:/site/bmx_races/288308
END:VEVENT
END:VCALENDAR
