BEGIN:VCALENDAR
VERSION:2.0
PRODID:icalendar-ruby
CALSCALE:GREGORIAN
METHOD:PUBLISH
BEGIN:VEVENT
DTSTAMP:20260423T034421Z
UID:19646ed2-74f4-43bb-9671-8247601220c5
DTSTART;VALUE=DATE:20150807
DTEND;VALUE=DATE:20150807
DESCRIPTION:Redwood Empire BMX
LOCATION:201 Vance Ave  Samoa CA 95564 USA
SUMMARY:Standard Single
URL:/site/bmx_races/288385
END:VEVENT
END:VCALENDAR
