BEGIN:VCALENDAR
VERSION:2.0
PRODID:icalendar-ruby
CALSCALE:GREGORIAN
METHOD:PUBLISH
BEGIN:VEVENT
DTSTAMP:20260421T160630Z
UID:b0bd3940-6132-4330-8920-28e1db155155
DTSTART;VALUE=DATE:20150929
DTEND;VALUE=DATE:20150929
DESCRIPTION:Mag Ridge BMX Park
LOCATION:344 Oldtown Crossing  Ridgeland MS 39157 USA
SUMMARY:Practice
URL:/site/bmx_races/288647
END:VEVENT
END:VCALENDAR
