BEGIN:VCALENDAR
VERSION:2.0
PRODID:icalendar-ruby
CALSCALE:GREGORIAN
METHOD:PUBLISH
BEGIN:VEVENT
DTSTAMP:20260423T034523Z
UID:4ae96acf-1b41-4f85-9e9c-0e026a97ea69
DTSTART;VALUE=DATE:20150814
DTEND;VALUE=DATE:20150814
DESCRIPTION:Redwood Empire BMX
LOCATION:201 Vance Ave  Samoa CA 95564 USA
SUMMARY:Standard Single
URL:/site/bmx_races/288674
END:VEVENT
END:VCALENDAR
