BEGIN:VCALENDAR
VERSION:2.0
PRODID:icalendar-ruby
CALSCALE:GREGORIAN
METHOD:PUBLISH
BEGIN:VEVENT
DTSTAMP:20260419T150724Z
UID:88466ff6-17f9-40bb-a676-6c25d83bdc1b
DTSTART;VALUE=DATE:20151121
DTEND;VALUE=DATE:20151121
DESCRIPTION:Lone Star BMX
LOCATION:3950 Eisenhauer Rd  San Antonio TX 78218 USA
SUMMARY:Earned Double
URL:/site/bmx_races/288793
END:VEVENT
END:VCALENDAR
