BEGIN:VCALENDAR
VERSION:2.0
PRODID:icalendar-ruby
CALSCALE:GREGORIAN
METHOD:PUBLISH
BEGIN:VEVENT
DTSTAMP:20260424T120334Z
UID:308c5f4a-cf52-4aa5-92d4-dbe22241e3cd
DTSTART;VALUE=DATE:20151016
DTEND;VALUE=DATE:20151016
DESCRIPTION:Peninsula Indoor BMX
LOCATION:5867 Dogwood Road Se  Port Orchard WA 98367 USA
SUMMARY:Local Race Single
URL:/site/bmx_races/288810
END:VEVENT
END:VCALENDAR
