BEGIN:VCALENDAR
VERSION:2.0
PRODID:icalendar-ruby
CALSCALE:GREGORIAN
METHOD:PUBLISH
BEGIN:VEVENT
DTSTAMP:20260424T120333Z
UID:10012fd8-8d4d-4079-ab83-81cd972eb28c
DTSTART;VALUE=DATE:20151021
DTEND;VALUE=DATE:20151021
DESCRIPTION:Peninsula Indoor BMX
LOCATION:5867 Dogwood Road Se  Port Orchard WA 98367 USA
SUMMARY:Practice
URL:/site/bmx_races/288813
END:VEVENT
END:VCALENDAR
