BEGIN:VCALENDAR
VERSION:2.0
PRODID:icalendar-ruby
CALSCALE:GREGORIAN
METHOD:PUBLISH
BEGIN:VEVENT
DTSTAMP:20260419T173027Z
UID:6eb257cd-ef0f-49fd-bdc6-77431021403a
DTSTART;VALUE=DATE:20150924
DTEND;VALUE=DATE:20150924
DESCRIPTION:Caldwell BMX
LOCATION:4700 Skyway St  Caldwell ID 83605 USA
SUMMARY:Local Race Single
URL:/site/bmx_races/288940
END:VEVENT
END:VCALENDAR
