BEGIN:VCALENDAR
VERSION:2.0
PRODID:icalendar-ruby
CALSCALE:GREGORIAN
METHOD:PUBLISH
BEGIN:VEVENT
DTSTAMP:20260425T160129Z
UID:f3440155-8316-46c0-9e8e-fc95913944b7
DTSTART;VALUE=DATE:20151201
DTEND;VALUE=DATE:20151201
DESCRIPTION:Blanchard Woods BMX
LOCATION:4600 Blanchard Woods Drive  Evans GA 30809 USA
SUMMARY:Practice
URL:/site/bmx_races/289487
END:VEVENT
END:VCALENDAR
