BEGIN:VCALENDAR
VERSION:2.0
PRODID:icalendar-ruby
CALSCALE:GREGORIAN
METHOD:PUBLISH
BEGIN:VEVENT
DTSTAMP:20260419T153126Z
UID:3fa790ca-1c66-4aa1-896b-2b81fc6d8fcb
DTSTART;VALUE=DATE:20160311
DTEND;VALUE=DATE:20160311
DESCRIPTION:Southwest Wyoming Indoor BMX
LOCATION:3320 Yellowstone Road  Rock Springs WY 82901 USA
SUMMARY:Local Race Single
URL:/site/bmx_races/289794
END:VEVENT
END:VCALENDAR
