BEGIN:VCALENDAR
VERSION:2.0
PRODID:icalendar-ruby
CALSCALE:GREGORIAN
METHOD:PUBLISH
BEGIN:VEVENT
DTSTAMP:20260425T212227Z
UID:527fb8be-cc47-44f9-9ac9-55bdb2bc4d2c
DTSTART;VALUE=DATE:20151006
DTEND;VALUE=DATE:20151006
DESCRIPTION:Ed Fountain Park BMX Raceway
LOCATION:1400 N Decatur Blvd  Las Vegas NV 89108 USA
SUMMARY:Local Race Single
URL:/site/bmx_races/289892
END:VEVENT
END:VCALENDAR
