BEGIN:VCALENDAR
VERSION:2.0
PRODID:icalendar-ruby
CALSCALE:GREGORIAN
METHOD:PUBLISH
BEGIN:VEVENT
DTSTAMP:20260423T100015Z
UID:7db85dec-47aa-4205-883c-fa1922c17922
DTSTART;VALUE=DATE:20151206
DTEND;VALUE=DATE:20151206
DESCRIPTION:Rad Canyon BMX Indoor
LOCATION:2100 W 11400 S  South Jordan UT 84095 USA
SUMMARY:Local Race Single
URL:/site/bmx_races/289962
END:VEVENT
END:VCALENDAR
