BEGIN:VCALENDAR
VERSION:2.0
PRODID:icalendar-ruby
CALSCALE:GREGORIAN
METHOD:PUBLISH
BEGIN:VEVENT
DTSTAMP:20260423T020924Z
UID:b08e7138-629e-4c3c-a619-73a590a35b8f
DTSTART;VALUE=DATE:20150925
DTEND;VALUE=DATE:20150925
DESCRIPTION:Redwood Empire BMX
LOCATION:201 Vance Ave  Samoa CA 95564 USA
SUMMARY:Standard Single
URL:/site/bmx_races/290348
END:VEVENT
END:VCALENDAR
