BEGIN:VCALENDAR
VERSION:2.0
PRODID:icalendar-ruby
CALSCALE:GREGORIAN
METHOD:PUBLISH
BEGIN:VEVENT
DTSTAMP:20260423T004313Z
UID:87ad1fa9-c826-4419-b6c5-a5d9a4026a5f
DTSTART;VALUE=DATE:20160807
DTEND;VALUE=DATE:20160807
DESCRIPTION:Akron BMX
LOCATION:800 Derby Downs Drive  Akron OH 44306 USA
SUMMARY:Local Race Single
URL:/site/bmx_races/290597
END:VEVENT
END:VCALENDAR
