BEGIN:VCALENDAR
VERSION:2.0
PRODID:icalendar-ruby
CALSCALE:GREGORIAN
METHOD:PUBLISH
BEGIN:VEVENT
DTSTAMP:20260424T082124Z
UID:29c4f5e5-763a-4139-832d-aa11b3151eb5
DTSTART;VALUE=DATE:20160804
DTEND;VALUE=DATE:20160804
DESCRIPTION:Hornet`s Nest BMX
LOCATION:6301 Beatties Ford Rd  Charlotte NC 28216 USA
SUMMARY:Local Race Single
URL:/site/bmx_races/291137
END:VEVENT
END:VCALENDAR
