BEGIN:VCALENDAR
VERSION:2.0
PRODID:icalendar-ruby
CALSCALE:GREGORIAN
METHOD:PUBLISH
BEGIN:VEVENT
DTSTAMP:20260425T212226Z
UID:1b781044-f0f1-424a-b3b7-db1d581562dc
DTSTART;VALUE=DATE:20151115
DTEND;VALUE=DATE:20151115
DESCRIPTION:Penticton BMX
LOCATION:630 Munson Mountain Road  Penticton BC V2A 8S5 CAN
SUMMARY:Practice
URL:/site/bmx_races/291304
END:VEVENT
END:VCALENDAR
