BEGIN:VCALENDAR
VERSION:2.0
PRODID:icalendar-ruby
CALSCALE:GREGORIAN
METHOD:PUBLISH
BEGIN:VEVENT
DTSTAMP:20260425T004837Z
UID:83b74f7a-07a4-4822-83ec-973a1f9cbed0
DTSTART;VALUE=DATE:20151031
DTEND;VALUE=DATE:20151031
DESCRIPTION:WALLA WALLA BMX
LOCATION:Fort Walla Walla Park   1898 Dalles Military Rd Walla Walla WA 993
 62 USA
SUMMARY:Local Race Single
URL:/site/bmx_races/291307
END:VEVENT
END:VCALENDAR
