BEGIN:VCALENDAR
VERSION:2.0
PRODID:icalendar-ruby
CALSCALE:GREGORIAN
METHOD:PUBLISH
BEGIN:VEVENT
DTSTAMP:20260423T003037Z
UID:37a43ae5-e09e-4dd7-a402-a6c31d3ac09d
DTSTART;VALUE=DATE:20160604
DTEND;VALUE=DATE:20160604
DESCRIPTION:Caldwell BMX
LOCATION:4700 Skyway St  Caldwell ID 83605 USA
SUMMARY:Gold Cup Qualifier Triple
URL:/site/bmx_races/291967
END:VEVENT
END:VCALENDAR
