BEGIN:VCALENDAR
VERSION:2.0
PRODID:icalendar-ruby
CALSCALE:GREGORIAN
METHOD:PUBLISH
BEGIN:VEVENT
DTSTAMP:20260419T155456Z
UID:1dc96a20-65f6-4ae5-9183-f1d23a896cf0
DTSTART;VALUE=DATE:20160521
DTEND;VALUE=DATE:20160521
DESCRIPTION:Interstate BMX
LOCATION:2600 Fairgrounds Blvd  Kingman AZ 86401 USA
SUMMARY:State Race Double
URL:/site/bmx_races/292127
END:VEVENT
END:VCALENDAR
