BEGIN:VCALENDAR
VERSION:2.0
PRODID:icalendar-ruby
CALSCALE:GREGORIAN
METHOD:PUBLISH
BEGIN:VEVENT
DTSTAMP:20260424T075555Z
UID:f218ae09-9134-4424-a2bb-1d253299e8bf
DTSTART;VALUE=DATE:20160605
DTEND;VALUE=DATE:20160605
DESCRIPTION:Silver Dollar BMX
LOCATION:2352 Dr. Martin Luther King Jr. Parkway  Chico CA 95928 USA
SUMMARY:State Race Double
URL:/site/bmx_races/292193
END:VEVENT
END:VCALENDAR
