BEGIN:VCALENDAR
VERSION:2.0
PRODID:icalendar-ruby
CALSCALE:GREGORIAN
METHOD:PUBLISH
BEGIN:VEVENT
DTSTAMP:20260424T115141Z
UID:ea8e4e39-cdbf-4a02-96c1-02b2e986ea46
DTSTART;VALUE=DATE:20160918
DTEND;VALUE=DATE:20160918
DESCRIPTION:Richmond BMX
LOCATION:4401 Hobbs Lane   Next To Church Richmond VA 23231 USA
SUMMARY:Local Race Single
URL:/site/bmx_races/292517
END:VEVENT
END:VCALENDAR
