BEGIN:VCALENDAR
VERSION:2.0
PRODID:icalendar-ruby
CALSCALE:GREGORIAN
METHOD:PUBLISH
BEGIN:VEVENT
DTSTAMP:20260424T094641Z
UID:638639a3-2831-417b-8829-ee20b0f64ae0
DTSTART;VALUE=DATE:20160831
DTEND;VALUE=DATE:20160831
DESCRIPTION:Kelowna BMX
LOCATION:645 Dodd Rd  Kelowna BC V1X5H1 CAN
SUMMARY:Local Race Single
URL:/site/bmx_races/293831
END:VEVENT
END:VCALENDAR
