BEGIN:VCALENDAR
VERSION:2.0
PRODID:icalendar-ruby
CALSCALE:GREGORIAN
METHOD:PUBLISH
BEGIN:VEVENT
DTSTAMP:20260424T065135Z
UID:b2b6e9e5-d815-49fa-bac8-718d5fff9e71
DTSTART;VALUE=DATE:20161008
DTEND;VALUE=DATE:20161008
DESCRIPTION:ORL BMX
LOCATION:4801 W Colonial Dr  Orlando FL 32808 USA
SUMMARY:Local Race Single
URL:/site/bmx_races/294343
END:VEVENT
END:VCALENDAR
