BEGIN:VCALENDAR
VERSION:2.0
PRODID:icalendar-ruby
CALSCALE:GREGORIAN
METHOD:PUBLISH
BEGIN:VEVENT
DTSTAMP:20260422T113709Z
UID:26c79faa-2319-4603-8f5a-451e0a3c10e6
DTSTART;VALUE=DATE:20160415
DTEND;VALUE=DATE:20160415
DESCRIPTION:Elkhorn BMX
LOCATION:848 Elkhorn Blvd  Rio Linda CA 95673 USA
SUMMARY:Local Race Single
URL:/site/bmx_races/294504
END:VEVENT
END:VCALENDAR
