BEGIN:VCALENDAR
VERSION:2.0
PRODID:icalendar-ruby
CALSCALE:GREGORIAN
METHOD:PUBLISH
BEGIN:VEVENT
DTSTAMP:20260422T113710Z
UID:52d86bcf-1606-4218-b595-a64b50e8f5e6
DTSTART;VALUE=DATE:20160426
DTEND;VALUE=DATE:20160426
DESCRIPTION:Elkhorn BMX
LOCATION:848 Elkhorn Blvd  Rio Linda CA 95673 USA
SUMMARY:Local Race Single
URL:/site/bmx_races/294507
END:VEVENT
END:VCALENDAR
