BEGIN:VCALENDAR
VERSION:2.0
PRODID:icalendar-ruby
CALSCALE:GREGORIAN
METHOD:PUBLISH
BEGIN:VEVENT
DTSTAMP:20260422T100549Z
UID:d3c20d42-4ef5-485d-ac35-ec5e3511d023
DTSTART;VALUE=DATE:20160524
DTEND;VALUE=DATE:20160524
DESCRIPTION:Elkhorn BMX
LOCATION:848 Elkhorn Blvd  Rio Linda CA 95673 USA
SUMMARY:Local Race Single
URL:/site/bmx_races/294515
END:VEVENT
END:VCALENDAR
