BEGIN:VCALENDAR
VERSION:2.0
PRODID:icalendar-ruby
CALSCALE:GREGORIAN
METHOD:PUBLISH
BEGIN:VEVENT
DTSTAMP:20260422T011049Z
UID:3f2b6273-0b80-45f9-8268-94c483c32cb7
DTSTART;VALUE=DATE:20161122
DTEND;VALUE=DATE:20161122
DESCRIPTION:Elkhorn BMX
LOCATION:848 Elkhorn Blvd  Rio Linda CA 95673 USA
SUMMARY:Local Race Single
URL:/site/bmx_races/294566
END:VEVENT
END:VCALENDAR
