BEGIN:VCALENDAR
VERSION:2.0
PRODID:icalendar-ruby
CALSCALE:GREGORIAN
METHOD:PUBLISH
BEGIN:VEVENT
DTSTAMP:20260422T195603Z
UID:d72246ec-1de6-422f-962a-d5fe7c78173c
DTSTART;VALUE=DATE:20160619
DTEND;VALUE=DATE:20160619
DESCRIPTION:Santa Maria BMX
LOCATION:4040 Highway 101  Santa Maria CA 93455 USA
SUMMARY:Local Race Single
URL:/site/bmx_races/294683
END:VEVENT
END:VCALENDAR
