BEGIN:VCALENDAR
VERSION:2.0
PRODID:icalendar-ruby
CALSCALE:GREGORIAN
METHOD:PUBLISH
BEGIN:VEVENT
DTSTAMP:20260425T112333Z
UID:77149c05-eb6a-46e1-aea7-2b0e55111afb
DTSTART;VALUE=DATE:20161004
DTEND;VALUE=DATE:20161004
DESCRIPTION:Ed Fountain Park BMX Raceway
LOCATION:1400 N Decatur Blvd  Las Vegas NV 89108 USA
SUMMARY:Practice
URL:/site/bmx_races/294752
END:VEVENT
END:VCALENDAR
