BEGIN:VCALENDAR
VERSION:2.0
PRODID:icalendar-ruby
CALSCALE:GREGORIAN
METHOD:PUBLISH
BEGIN:VEVENT
DTSTAMP:20260426T015924Z
UID:c5d31878-e0b1-4d53-a8e9-df9634a52218
DTSTART;VALUE=DATE:20160113
DTEND;VALUE=DATE:20160113
DESCRIPTION:Ed Fountain Park BMX Raceway
LOCATION:1400 N Decatur Blvd  Las Vegas NV 89108 USA
SUMMARY:Clinic
URL:/site/bmx_races/294767
END:VEVENT
END:VCALENDAR
