BEGIN:VCALENDAR
VERSION:2.0
PRODID:icalendar-ruby
CALSCALE:GREGORIAN
METHOD:PUBLISH
BEGIN:VEVENT
DTSTAMP:20260426T002448Z
UID:5a9a9eda-f0c4-4675-90b1-dbcfa7e3dab2
DTSTART;VALUE=DATE:20160217
DTEND;VALUE=DATE:20160217
DESCRIPTION:Ed Fountain Park BMX Raceway
LOCATION:1400 N Decatur Blvd  Las Vegas NV 89108 USA
SUMMARY:Clinic
URL:/site/bmx_races/294777
END:VEVENT
END:VCALENDAR
