BEGIN:VCALENDAR
VERSION:2.0
PRODID:icalendar-ruby
CALSCALE:GREGORIAN
METHOD:PUBLISH
BEGIN:VEVENT
DTSTAMP:20260425T205920Z
UID:a47209b0-a6a5-48b8-a3c7-acd35bfefa1c
DTSTART;VALUE=DATE:20160420
DTEND;VALUE=DATE:20160420
DESCRIPTION:Ed Fountain Park BMX Raceway
LOCATION:1400 N Decatur Blvd  Las Vegas NV 89108 USA
SUMMARY:Clinic
URL:/site/bmx_races/294795
END:VEVENT
END:VCALENDAR
