BEGIN:VCALENDAR
VERSION:2.0
PRODID:icalendar-ruby
CALSCALE:GREGORIAN
METHOD:PUBLISH
BEGIN:VEVENT
DTSTAMP:20260425T144730Z
UID:718ca34c-b20d-4981-a0d2-6f676d88d387
DTSTART;VALUE=DATE:20160810
DTEND;VALUE=DATE:20160810
DESCRIPTION:Ed Fountain Park BMX Raceway
LOCATION:1400 N Decatur Blvd  Las Vegas NV 89108 USA
SUMMARY:Clinic
URL:/site/bmx_races/294827
END:VEVENT
END:VCALENDAR
