BEGIN:VCALENDAR
VERSION:2.0
PRODID:icalendar-ruby
CALSCALE:GREGORIAN
METHOD:PUBLISH
BEGIN:VEVENT
DTSTAMP:20260421T103037Z
UID:49953671-5fe6-4573-8226-c530dd54f282
DTSTART;VALUE=DATE:20160808
DTEND;VALUE=DATE:20160808
DESCRIPTION:Naples BMX
LOCATION:4701 Golden Gate Parkway  Naples FL 34116 USA
SUMMARY:Practice
URL:/site/bmx_races/295015
END:VEVENT
END:VCALENDAR
