BEGIN:VCALENDAR
VERSION:2.0
PRODID:icalendar-ruby
CALSCALE:GREGORIAN
METHOD:PUBLISH
BEGIN:VEVENT
DTSTAMP:20260421T103037Z
UID:1821adfa-5edf-4809-9d89-9dfce6e48cda
DTSTART;VALUE=DATE:20160817
DTEND;VALUE=DATE:20160817
DESCRIPTION:Naples BMX
LOCATION:4701 Golden Gate Parkway  Naples FL 34116 USA
SUMMARY:Practice
URL:/site/bmx_races/295019
END:VEVENT
END:VCALENDAR
