BEGIN:VCALENDAR
VERSION:2.0
PRODID:icalendar-ruby
CALSCALE:GREGORIAN
METHOD:PUBLISH
BEGIN:VEVENT
DTSTAMP:20260423T172803Z
UID:1d690de0-eaae-4280-b139-3e9ef43d3b24
DTSTART;VALUE=DATE:20161106
DTEND;VALUE=DATE:20161106
DESCRIPTION:Peninsula Indoor BMX
LOCATION:5867 Dogwood Road Se  Port Orchard WA 98367 USA
SUMMARY:Local Race Single
URL:/site/bmx_races/295164
END:VEVENT
END:VCALENDAR
