BEGIN:VCALENDAR
VERSION:2.0
PRODID:icalendar-ruby
CALSCALE:GREGORIAN
METHOD:PUBLISH
BEGIN:VEVENT
DTSTAMP:20260421T072825Z
UID:b0036c2a-1e29-4c62-bd55-b1ccd1c383ac
DTSTART;VALUE=DATE:20161014
DTEND;VALUE=DATE:20161014
DESCRIPTION:Naples BMX
LOCATION:4701 Golden Gate Parkway  Naples FL 34116 USA
SUMMARY:Local Race Single
URL:/site/bmx_races/296096
END:VEVENT
END:VCALENDAR
