BEGIN:VCALENDAR
VERSION:2.0
PRODID:icalendar-ruby
CALSCALE:GREGORIAN
METHOD:PUBLISH
BEGIN:VEVENT
DTSTAMP:20260421T080212Z
UID:1685bfe6-58cc-43d9-b43c-d0aa0064380f
DTSTART;VALUE=DATE:20151106
DTEND;VALUE=DATE:20151106
DESCRIPTION:San Diego BMX
LOCATION:3170 Armstrong Street Behind Kearny Mesa Recreation Center San Die
 go CA 92111 USA
SUMMARY:Standard Single
URL:/site/bmx_races/297047
END:VEVENT
END:VCALENDAR
