BEGIN:VCALENDAR
VERSION:2.0
PRODID:icalendar-ruby
CALSCALE:GREGORIAN
METHOD:PUBLISH
BEGIN:VEVENT
DTSTAMP:20260426T015926Z
UID:7c82a4f9-9c6b-417a-87bc-90e74ff98882
DTSTART;VALUE=DATE:20151108
DTEND;VALUE=DATE:20151108
DESCRIPTION:Jacksonville BMX
LOCATION:1946 Ray Greene Drive  Jacksonville FL 32218 USA
SUMMARY:Standard Single
URL:/site/bmx_races/297075
END:VEVENT
END:VCALENDAR
