BEGIN:VCALENDAR
VERSION:2.0
PRODID:icalendar-ruby
CALSCALE:GREGORIAN
METHOD:PUBLISH
BEGIN:VEVENT
DTSTAMP:20260422T054225Z
UID:ac7bd2ea-12ad-4720-b75c-cdd1ef3d4a84
DTSTART;VALUE=DATE:20160413
DTEND;VALUE=DATE:20160413
DESCRIPTION:Sandy Ridge BMX
LOCATION:1200 Keys Ferry Rd  McDonough GA 30253 USA
SUMMARY:Practice
URL:/site/bmx_races/297088
END:VEVENT
END:VCALENDAR
