BEGIN:VCALENDAR
VERSION:2.0
PRODID:icalendar-ruby
CALSCALE:GREGORIAN
METHOD:PUBLISH
BEGIN:VEVENT
DTSTAMP:20260421T222214Z
UID:cff42cd9-2889-4b87-a685-6375aa68105d
DTSTART;VALUE=DATE:20160914
DTEND;VALUE=DATE:20160914
DESCRIPTION:Sandy Ridge BMX
LOCATION:1200 Keys Ferry Rd  McDonough GA 30253 USA
SUMMARY:Practice
URL:/site/bmx_races/297119
END:VEVENT
END:VCALENDAR
