BEGIN:VCALENDAR
VERSION:2.0
PRODID:icalendar-ruby
CALSCALE:GREGORIAN
METHOD:PUBLISH
BEGIN:VEVENT
DTSTAMP:20260421T222312Z
UID:39b08a45-0b32-4d26-be6e-e147ca98aeae
DTSTART;VALUE=DATE:20160921
DTEND;VALUE=DATE:20160921
DESCRIPTION:Sandy Ridge BMX
LOCATION:1200 Keys Ferry Rd  McDonough GA 30253 USA
SUMMARY:Practice
URL:/site/bmx_races/297121
END:VEVENT
END:VCALENDAR
