BEGIN:VCALENDAR
VERSION:2.0
PRODID:icalendar-ruby
CALSCALE:GREGORIAN
METHOD:PUBLISH
BEGIN:VEVENT
DTSTAMP:20260425T022851Z
UID:60f3dcb2-e615-4ec7-828c-548bde5dc1de
DTSTART;VALUE=DATE:20151201
DTEND;VALUE=DATE:20151201
DESCRIPTION:Air Time BMX
LOCATION:5051 S Frankwood Ave  Reedley CA 93654 USA
SUMMARY:Warnicke Single
URL:/site/bmx_races/297863
END:VEVENT
END:VCALENDAR
