BEGIN:VCALENDAR
VERSION:2.0
PRODID:icalendar-ruby
CALSCALE:GREGORIAN
METHOD:PUBLISH
BEGIN:VEVENT
DTSTAMP:20260419T161424Z
UID:188010a3-635c-4061-8626-b015eb51995e
DTSTART;VALUE=DATE:20160403
DTEND;VALUE=DATE:20160403
DESCRIPTION:Grand Valley BMX
LOCATION:2785 U.S. Highway 50  Grand Junction CO 81503 USA
SUMMARY:Local Race Single
URL:/site/bmx_races/297999
END:VEVENT
END:VCALENDAR
